Workbook

Sheet Žádost o grant 
A1: město Rosice Palackého nám. 13, 665 01 Rosice
A4: Žádost o finanční podporu z dotačního programu
A6: =_xlfn.CONCAT("Podpora činnosti spolků, sportovních oddílů a jednotlivců v Rosicích pro rok ",parametry!B8) -> Podpora činnosti spolků, sportovních oddílů a jednotlivců v Rosicích pro rok 2026
A8: Žadatel: (název organizace, spolku, klubu atp., u fyzické osoby jméno a příjmení)
A10: Forma žadatele: (např. organizační složka, spolek, fyzická osoba atp.)
A12: IČ (u fyzické osoby datum narození):
A13: DIČ:
C14: Plátce DPH (uveďte Ano nebo NE)
A16: Adresa: (u fyzické osoby adresa bydliště, u právnické osoby sídlo)
A18: Oprávněná osoba jednat:
A20: Kontaktní telefon:
A22: Kontaktní e-mail:
A24: Bankovní spojení:
A26: Výše požadované dotace celkem | C26: =C27+C29+C31 -> 0
A27: v kapitole 1 - soustavná činnost | C27: ='Kapitola 1'!D47 -> 0
A28: spoluúčast žadatele v kapitole 1 | C28: ='Kapitola 1'!D48-'Kapitola 1'!D47 -> 0 | D28: ='Kapitola 1'!D49
A29: v kapitole 2 - jednorázové akce | C29: ='Kapitola 2'!E58 -> 0
A30: spoluúčast žadatele v kapitole 2 | C30: ='Kapitola 2'!E59-'Kapitola 2'!E58 -> 0 | D30: ='Kapitola 2'!E60
A31: v kapitole 3 - pořízení nebo opravy majetku | C31: ='Kapitola 3'!D51 -> 0
A32: spoluúčast žadatele v kapitole 3 | C32: ='Kapitola 3'!D52-'Kapitola 3'!D51 -> 0 | D32: ='Kapitola 3'!D53
A34: Účel použití dotace | C34: (uvedeno na formuláří jednotlivých kapitol)
A36: Struktrura členské základny | C36: členové z Rosic | D36: mimorosičtí
A37: Počet členů mladších 18 let
A38: Počet členů od 19 do 64 let
A39: Počet členů starších 65 let
A40: Počet členů celkem | C40: =SUM(C37:D39) -> 0
A41: Hospodaření žadatele v přechozích letech | C41: Náklady | D41: Výnosy
A42: =CONCATENATE("Účetní závěrka ",parametry!B10) -> Účetní závěrka 2024
A43: =CONCATENATE("Účetní závěrka ",parametry!B11) -> Účetní závěrka 2023
A44: =CONCATENATE("Účetní závěrka ",parametry!B12) -> Účetní závěrka 2022
A46: Seznam povinných i nepovinných příloh:
B47: 1. | C47: Čestné prohlášení žadatele – právnické osoby
B48: 2. | C48: Výpis z veřejnéhho rejstříku
B49: 3.
B50: 4.
B51: 5.
A54: Čestné prohlášení: | C54: Žadatel podpisem na této žádosti čestně prohlašuje, že městu Rosice nedluží z jakéhokoliv titulu žádné finanční prostředky a není vůči městu v prodlení s plněním jakýchkoliv jiných povinností.
A58: Den vyhotovení žádosti a podpis oprávněné osoby

Sheet Kapitola 1
A1: město Rosice Palackého nám. 13, 665 01 Rosice
A4: ='Žádost o grant '!A6 -> Podpora činnosti spolků, sportovních oddílů a jednotlivců v Rosicích pro rok 2026
A6: Žádost o finanční podporu v KAPITOLE 1 - soustavná a pravidelná činnost
A8: Žadatel: | C8: Klub sportovní gymnastiky
A10: Účel použití dotace - Název projektu
A12: Přínos činnosti žadatele pro občany města Rosice
A14: Počet hodin "soustavné činnosti" týdně
A16: Reprezentace města na krajské, celorepublikové a mezinárodní úrovni
A18: Poskytování vlastních prostor pro veřejnost
A21: Náklady na soustavnou a pravidelnou činnost | C21: Položka | D21: částka
C35: Celkem | D35: =SUM(D22:D34) -> 0
A38: Financování soustavné a pravidelné činnosti | C38: Položka | D38: částka
C39: členské příspěvky
C40: příjmy ze vstupného
C41: sponzorské dary
C42: jiné dotace a granty
C43: další vlastní zdroje
C44: jiné zdroje výše neuvedené
C47: požadovaný grant
C48: Celkem | D48: =SUM(D39:D47) -> 0
C49: Procento spoluúčasti | D49: =IF(D48=0," ",IF(D50<parametry!C15,"nedostatečná spoluúčast",D50))
D50: =(D48-D47)/D48 -> #DIV/0!
A54: Den vyhotovení žádosti a podpis oprávněné osoby

Sheet Kapitola 2
A1: město Rosice Palackého nám. 13, 665 01 Rosice
A4: ='Žádost o grant '!A6 -> Podpora činnosti spolků, sportovních oddílů a jednotlivců v Rosicích pro rok 2026
A6: Žádost o finanční podporu v KAPITOLE 2 - jednotlivé akce
A8: Žadatel: | C8: ='Žádost o grant '!C8:D8 -> 0
A10: Účel použití dotace - Název akce
A12: Termín a místo konání akce
A14: Přínos a potřebnost akce
A16: Cílová skupina akce
A18: Regionální dosah akce
C20: Diváci (účastníci) | D20: závodníci / soutěžící / účinkující
A21: =CONCATENATE("Očekávaná návštěvnost v roce ",parametry!B8) -> Očekávaná návštěvnost v roce 2026
A22: =CONCATENATE(" Návštěvnost akce v roce ",parametry!B9) -> Návštěvnost akce v roce 2025
A23: =CONCATENATE(" Návštěvnost akce v roce ",parametry!B10) -> Návštěvnost akce v roce 2024
A24: =CONCATENATE(" Návštěvnost akce v roce ",parametry!B11) -> Návštěvnost akce v roce 2023
A26: Výše vstupného
A28: Náklady na uspořádání akce | C28: Položka | E28: částka
C47: Celkem | E47: =SUM(E29:E46) -> 0
A49: Financování akce | C49: Položka | E49: částka
C50: příjmy ze vstupného | E50: =C26*C21 -> 0
C51: sponzorské dary
C52: další vlastní zdroje
C53: jiné zdroje výše neuvedené
C58: požadovaný grant | E58: =E47-SUM(E50:E57) -> 0
C59: Celkem | E59: =SUM(E50:E58) -> 0
C60: Procento spoluúčasti | E60: =IF(E59=0," ",IF(E61<parametry!C16,"nedostatečná spoluúčast",E61))
E61: =(E59-E58)/E59 -> #DIV/0!
A66: Den vyhotovení žádosti a podpis oprávněné osoby

Sheet Kapitola 3
A1: město Rosice Palackého nám. 13, 665 01 Rosice
A4: ='Žádost o grant '!A6 -> Podpora činnosti spolků, sportovních oddílů a jednotlivců v Rosicích pro rok 2026
A6: Žádost o finanční podporu v KAPITOLE 3 - pořízení nebo opravy majetku
A8: Žadatel: | C8: ='Žádost o grant '!C8:D8 -> 0
A10: Účel použití dotace - Název akce
A12: Místo a doba uskutečnění investice nebo opravy
A14: Potřebnost pořízení nebo opravy majetku
A16: Míra využití pořizovaného nebo opravovaného majetku pro veřejnost
A18: Poskytování vlastních prostor pro veřejnost | C18: ='Kapitola 1'!C18:D18
A21: Náklady na pořízení nebo opravy majetku | C21: Položka | D21: částka
C22: pořízení investičního majetku
C23: technické zhodnocení investičního majetku
C24: oprava investičního majetku
C25: pořízení neinvestičního majetku
C26: oprava neinvestičního majetku
C41: Celkem | D41: =SUM(D22:D40) -> 0
A43: Financování akce | C43: Položka | D43: částka
C44: sponzorské dary
C45: vlastní zdroje
C46: jiné zdroje výše neuvedené
C51: požadovaný grant | D51: =D41-SUM(D43:D50) -> 0
C52: Celkem | D52: =SUM(D43:D51) -> 0
C53: Procento spoluúčasti | D53: =IF(D52=0," ",IF(D54<parametry!C17,"nedostatečná spoluúčast",D54))
D54: =(D52-D51)/D52 -> #DIV/0!
A57: Den vyhotovení žádosti a podpis oprávněné osoby

Sheet Vyúčtování grantu
A1: město Rosice Palackého nám. 13, 665 01 Rosice
A4: VYÚČTOVÁNÍ PŘIJATÉ VEŘEJNÉ PODPORY
A5: podle zák. č. 320/2001 Sb. o finanční kontrole ve veřejné správě ve znění p.p.
A6: podle zák. č. 250/2000 Sb. o rozpočtových pravidlech územních rozpočtů ve znění p.p.
A8: ='Žádost o grant '!A6 -> Podpora činnosti spolků, sportovních oddílů a jednotlivců v Rosicích pro rok 2026
A11: Příjemce veřejné podpory:
A12: (název organizace, spolku, klubu atp., u fyzické osoby jméno a příjmení)
A14: Forma:
A15: (např. organizační složka, zapsaný spolek, fyzická osoba atp.)
A17: IČ / DIČ: | C17: ='Žádost o grant '!C12 -> 0 | E17: ='Žádost o grant '!C13 -> 0
A18: (u fyzické osoby datum narození)
C19: Plátce DPH (uveďte Ano nebo NE) | G19: ='Žádost o grant '!D14 -> 0
A22: Adresa: | C22: ='Žádost o grant '!C16 -> 0
A23: (u fyzické osoby adresa bydliště, u právnické osoby sídlo)
A25: Oprávněná osoba jednat: | C25: ='Žádost o grant '!C18 -> 0
A27: Kontaktní telefon: | C27: ='Žádost o grant '!C20 -> 0
A29: Kontaktní e-mail: | C29: ='Žádost o grant '!C22 -> 0
A31: Výše poskytnuté dotace celkem | C31: =C32+C33+C34 -> 0
A32: v kapitole 1 - soustavná činnost | E32: Počet stran příloh:
A33: v kapitole 2 - jednorázové akce | E33: Počet stran příloh:
A34: v kapitole 3 - pořízení nebo opravy majetku | E34: Počet stran příloh:
A37: Čestné prohlášení žadatele:
A38: Prohlašuji, že předložené vyúčtování včetně příloh je úplné a správné a jsem si vědom(-a) právních následků, které mohou z předložení neúplného a/nebo nesprávného vyúčtování vzniknout.
A41: Den vyhotovení vyúčtování a podpis oprávněné osoby

Sheet Kap1vyuctov
A1: město Rosice Palackého nám. 13, 665 01 Rosice
A4: VYÚČTOVÁNÍ PŘIJATÉ VEŘEJNÉ PODPORY
A5: podle zák. č. 320/2001 Sb. o finanční kontrole ve veřejné správě ve znění p.p.
A6: podle zák. č. 250/2000 Sb. o rozpočtových pravidlech územních rozpočtů ve znění p.p.
A7: ='Žádost o grant '!A6 -> Podpora činnosti spolků, sportovních oddílů a jednotlivců v Rosicích pro rok 2026
A10: KAPITOLA 1 - soustavná a pravidelná činnost
A12: Příjemce veřejné podpory: | C12: ='Vyúčtování grantu'!C11 -> 0
A15: Výše poskytnuté dotace v Kapitole 1 | C15: {='Vyúčtování grantu'!C32:C32} -> 0
A16: Minimální dokládaná částka
A18: Náklady na soustavnou a pravidelnou činnost | C18: Položka | D18: částka
A43: Výše celkových výdajů na akci: | C43: Celkem | D43: =SUM(D19:D42) -> 0
C44: Procento spoluúčasti | D44: =(D43-C15)/D43 -> #DIV/0!
A49: Den vyhotovení vyúčtování a podpis oprávněné osoby

Sheet Kap2vyuctov
A1: město Rosice Palackého nám. 13, 665 01 Rosice
A4: VYÚČTOVÁNÍ PŘIJATÉ VEŘEJNÉ PODPORY
A5: podle zák. č. 320/2001 Sb. o finanční kontrole ve veřejné správě ve znění p.p.
A6: podle zák. č. 250/2000 Sb. o rozpočtových pravidlech územních rozpočtů ve znění p.p.
A7: ='Žádost o grant '!A6 -> Podpora činnosti spolků, sportovních oddílů a jednotlivců v Rosicích pro rok 2026
A10: KAPITOLA 2 - jednotlivé akce
A12: Příjemce veřejné podpory: | C12: ='Vyúčtování grantu'!C11 -> 0
A15: Výše poskytnuté dotace v Kapitole 2 | C15: ='Vyúčtování grantu'!C33:D33 -> 0
A16: Minimální dokládaná částka | C16: =Kap2vyuctov!C15:D15/(1-parametry!C16) -> 0
A18: Výše příjmů ze vstupného: | C18: 0
A19: Výše ostatních příjmů z akce: | C19: 0
A20: Výše celkovýcu příjmů z akce: | C20: =C18+C19 -> 0
A22: Náklady na akci | C22: Položka | D22: částka
A44: Výše celkových výdajů na akci: | C44: Celkem | D44: =SUM(D23:D43) -> 0
C45: Procento spoluúčasti | D45: =(D44-C15)/D44 -> #DIV/0!
A50: Den vyhotovení vyúčtování a podpis oprávněné osoby

Sheet Kap3vyuctov
A1: město Rosice Palackého nám. 13, 665 01 Rosice
A4: VYÚČTOVÁNÍ PŘIJATÉ VEŘEJNÉ PODPORY
A5: podle zák. č. 320/2001 Sb. o finanční kontrole ve veřejné správě ve znění p.p.
A6: podle zák. č. 250/2000 Sb. o rozpočtových pravidlech územních rozpočtů ve znění p.p.
A7: ='Žádost o grant '!A6 -> Podpora činnosti spolků, sportovních oddílů a jednotlivců v Rosicích pro rok 2026
A10: KAPITOLA 3 - pořízení nebo opravy majetku
A12: Příjemce veřejné podpory: | C12: ='Vyúčtování grantu'!C11 -> 0
A15: Výše poskytnuté dotace v Kapitole 3 | C15: ='Vyúčtování grantu'!C34:D34 -> 0
A16: Minimální dokládaná částka | C16: =Kap3vyuctov!C15:D15/(1-parametry!C17) -> 0
A18: Náklady na pořízení nebo opravy majetku | C18: Položka | D18: částka
A43: Výše celkových výdajů na akci: | C43: Celkem | D43: =SUM(D19:D42) -> 0
C44: Procento spoluúčasti | D44: =(D43-C15)/D43 -> #DIV/0!
A49: Den vyhotovení vyúčtování a podpis oprávněné osoby

Sheet Pokyny
A1: Pokyny pro vyplnění vyúčtování přijaté veřejné podpory (dále jen "vyúčtování"):
A4: Pojmy:
A6: Příjemcem veřejné podpory se rozumí fyzická nebo právnická osoba, jíž byla poskytnuta veřejná podpora z rozpočtu poskytovatele.
A8: Veřejnou podporou se rozumí finanční nebo nefinanční podpora, přiznaná a poskytnutá poskytovatelem z rozpočtu poskytovatele na
A9: základě uzavřené smlouvy
A11: Vyúčtováním se rozumí přehled příjmů a výdajů (příp. výnosů a nákladů) akce, který obsahuje údaje požadované poskytovatelem a
A12: předepsané přílohy.
A14: Vyúčtování se podává za každou akci, na kterou byla poskytnuta veřejná podpora z rozpočtu poskytovatele zvlášť.
A17: Pokyny k vyplnění řádků:
A18: v případě počítačového zpracování vyplňujte pouze zvýrazněná pole, ostatní buňky jsou uzamčeny (data z úvodního listu se propisují do dalších listů a počítá se automaticky spoluúčast)
A20: Příjemce veřejné podpory: | B20: uvede se název, sídlo, IČO v souladu s uzavřenou smlouvou
A21: (název, sídlo, IČO) | B21: (tedy vyúčtování podává subjekt,který veřejnou podporu přijal)
A24: Osoba oprávněná jednat: | B24: uvede se jméno osoby oprávněné jednat za příjemce veřejné podpory,
A25: (jméno, telefon, e-mail) | B25: její telefonní číslo (nejlépe mobilní) a e-mailová adresa
B26: Uvedení těchto kontaktních údajů je velmi důležité, neboť umožňuje
B27: operativní řešení případných nejasností apod. a je možno odstranit
B28: zdlouhavý a drahý poštovní styk.
A31: Název akce, na kterou byla veřejná | B31: uvede se název akce podle žádosti o grant
A32: podpora udělena:
A35: Výše přijaté veřejné podpory: | B35: uvede se částka, která byla poskytovatelem příjemci poskytnuta
A38: Výše příjmů ze vstupného: | B38: uvede se výše příjmů z akce ze vstupného na akci
B39: u plátců DPH se veškeré částky uvádí bez DPH
A42: Výše ostatních příjmů z akce: | B42: uvede se výše veškerých příjmů z akce, které nejsou zahrnuty v
B43: položkách číslo
B44: u plátců DPH se veškeré částky uvádí bez DPH
A47: Výše celkových výdajů na akci: | B47: uvede se součet veškerých výdajů na akci
B48: u plátců DPH se veškeré částky uvádí bez DPH
A51: Přílohy:
A53: Povinnou přílohou tohoto vyúčtování jsou kopie účetních dokladů, zaúčtovaných v souladu s obecně závaznými právními předpisy.
A54: Jsou-li do výdajů, hrazených z grantu zahrnovány pouze poměrné části doložených výdajů, musí být součástí dokladů doklad na celou
A55: částku, postup výpočtu těchto poměrných částí a zdůvodnění tohoto postupu.
A56: Součástí příloh u dokladů nehrazených hotově (faktury apod.) je i doklad o jejich proplacení (složenka, výpis z účtu, …).
A58: U akci pro uzavřený počet účastníků (např. školní výlety, zájezdy, …) je přílohou seznam účastníků (jméno, adresa, datum narození).
A60: Součástí tohoto vyúčtování je i závěrečná zpráva o akci, vypracovaná podle podmínek grantu (viz. podmínky pro přidělení grantů).
A64: V případě nejasností nebo potřeby jakýchkoli konzultací kontaktujte Odbor kanceláře starosty a OŽU MěÚ Rosice,
A65: oddělení dotací a veřejných zákázek Bc. Janu Švihálkovou, tel. 546 492 187, e-mail: svihalkova@rosice.cz
A69: Pro zjednodušení zpracování žádostí, preferujeme zaslání formuláře datovou schránkou ve formátu XLSX.

Sheet parametry
A1: Na řádku 3 jsou vytažené informace potřebné do vyhodnocovací tabulky, aby se nemusely přepisovat ručně
A2: Žadatel | B2: Forma | C2: IČ | D2: DIČ | E2: Plátce | F2: Adresa | G2: Osoba | H2: Telefon | I2: Mail | J2: účet | K2: Náklady Loni | L2: Výnosy Loni | M2: Náklady Předloni | N2: Výnosy Předloni | O2: Náklady Předpředloni | P2: Výnosy Předpředloni | Q2: R18 | R2: MR18 | S2: Rdospělí | T2: MRdospělí | U2: R65 | V2: MR65 | W2: Celkem členů | X2: členské příspěvky | Y2: K1Požadavek | Z2: K1Spoluúčast | AA2: K1%% | AB2: K2Požadavek | AC2: K2Spoluúčast | AD2: K2%% | AE2: K3Požadavek | AF2: K3Spoluúčast | AG2: K3%% | AH2: Celkem
A3: ='Žádost o grant '!C8 -> 0 | B3: ='Žádost o grant '!C10 -> 0 | C3: ='Žádost o grant '!C12 -> 0 | D3: ='Žádost o grant '!C13 -> 0 | E3: ='Žádost o grant '!D14 -> 0 | F3: ='Žádost o grant '!C16 -> 0 | G3: ='Žádost o grant '!C18 -> 0 | H3: ='Žádost o grant '!C22 -> 0 | I3: ='Žádost o grant '!C22 -> 0 | J3: ='Žádost o grant '!C24 -> 0 | K3: ='Žádost o grant '!C42 -> 0 | L3: ='Žádost o grant '!D42 -> 0 | M3: ='Žádost o grant '!C43 -> 0 | N3: ='Žádost o grant '!D43 -> 0 | O3: ='Žádost o grant '!C44 -> 0 | P3: ='Žádost o grant '!D44 -> 0 | Q3: ='Žádost o grant '!C37 -> 0 | R3: ='Žádost o grant '!D37 -> 0 | S3: ='Žádost o grant '!C38 -> 0 | T3: ='Žádost o grant '!D38 -> 0 | U3: ='Žádost o grant '!C39 -> 0 | V3: ='Žádost o grant '!D39 -> 0 | W3: ='Žádost o grant '!C40 -> 0 | X3: ='Kapitola 1'!D39 -> 0 | Y3: ='Žádost o grant '!C27 -> 0 | Z3: ='Žádost o grant '!C28 -> 0 | AA3: ='Žádost o grant '!D28 | AB3: ='Žádost o grant '!C29 -> 0 | AC3: ='Žádost o grant '!C30 -> 0 | AD3: ='Žádost o grant '!D30 | AE3: ='Žádost o grant '!C31 -> 0 | AF3: ='Žádost o grant '!C32 -> 0 | AG3: ='Žádost o grant '!D32 | AH3: ='Žádost o grant '!C26 -> 0
A7: parametry
A8: rok žádosti | B8: 2026
A9: Letos | B9: =B8-1 -> 2025
A10: Loni | B10: =B9-1 -> 2024
A11: Předloni | B11: =B10-1 -> 2023
A12: Před předloni | B12: =B11-1 -> 2022
A13: Limity | B13: Max požadavek | C13: Min spoluúčast
A14: Celkem | B14: 500000
A15: Kapitola 1 | B15: 400000 | C15: 0.25
A16: Kapitola 2 | B16: 60000 | C16: 0.25
A17: Kapitola 3 | B17: 170000 | C17: 0.25
